BEGIN:VCALENDAR
VERSION:2.0
PRODID:-//Sabre//Sabre VObject 4.5.8//EN
CALSCALE:GREGORIAN
BEGIN:VEVENT
UID:criticalmass-one-leipzig-1490976000
DTSTAMP:20260421T031756Z
SUMMARY:Critical Mass Leipzig 31.03.2017
DTSTART;TZID=Europe/Berlin:20170331T180000
DTEND;TZID=Europe/Berlin:20170331T200000
LOCATION:Augustusplatz
GEO:51.338980;12.380949
URL;VALUE=URI:https://criticalmass.in/leipzig/2017-03-31
END:VEVENT
END:VCALENDAR
