BEGIN:VCALENDAR
VERSION:2.0
PRODID:-//Sabre//Sabre VObject 4.5.8//EN
CALSCALE:GREGORIAN
BEGIN:VEVENT
UID:criticalmass-one-leipzig-1477670400
DTSTAMP:20260421T044349Z
SUMMARY:Critical Mass Leipzig 28.10.2016
DTSTART;TZID=Europe/Berlin:20161028T180000
DTEND;TZID=Europe/Berlin:20161028T200000
LOCATION:Augustusplatz
GEO:51.338980;12.380949
URL;VALUE=URI:https://criticalmass.in/leipzig/2016-10-28
END:VEVENT
END:VCALENDAR
