BEGIN:VCALENDAR
VERSION:2.0
PRODID:-//Sabre//Sabre VObject 4.5.8//EN
CALSCALE:GREGORIAN
BEGIN:VEVENT
UID:criticalmass-one-leipzig-1461945600
DTSTAMP:20260421T063530Z
SUMMARY:Critical Mass Leipzig 29.04.2016
DTSTART;TZID=Europe/Berlin:20160429T180000
DTEND;TZID=Europe/Berlin:20160429T200000
LOCATION:Augustusplatz
GEO:51.338980;12.380949
URL;VALUE=URI:https://criticalmass.in/leipzig/2016-04-29
END:VEVENT
END:VCALENDAR
