BEGIN:VCALENDAR
VERSION:2.0
PRODID:-//Sabre//Sabre VObject 4.5.8//EN
CALSCALE:GREGORIAN
BEGIN:VEVENT
UID:criticalmass-one-leipzig-1456506000
DTSTAMP:20260421T044337Z
SUMMARY:Critical Mass Leipzig 26.02.2016
DTSTART;TZID=Europe/Berlin:20160226T180000
DTEND;TZID=Europe/Berlin:20160226T200000
LOCATION:Augustusplatz
GEO:51.338980;12.380949
URL;VALUE=URI:https://criticalmass.in/leipzig/2016-02-26
END:VEVENT
END:VCALENDAR
