BEGIN:VCALENDAR
VERSION:2.0
PRODID:-//Sabre//Sabre VObject 4.5.8//EN
CALSCALE:GREGORIAN
BEGIN:VEVENT
UID:criticalmass-one-leipzig-1429891200
DTSTAMP:20260421T080619Z
SUMMARY:Critical Mass Leipzig 24.04.2015
DTSTART;TZID=Europe/Berlin:20150424T180000
DTEND;TZID=Europe/Berlin:20150424T200000
LOCATION:Augustusplatz
GEO:51.338980;12.380949
URL;VALUE=URI:https://criticalmass.in/leipzig/2015-04-24
END:VEVENT
END:VCALENDAR
