BEGIN:VCALENDAR
VERSION:2.0
PRODID:-//Sabre//Sabre VObject 4.5.8//EN
CALSCALE:GREGORIAN
BEGIN:VEVENT
UID:criticalmass-one-leipzig-1403884800
DTSTAMP:20260421T080614Z
SUMMARY:Critical Mass Leipzig 27.06.2014
DTSTART;TZID=Europe/Berlin:20140627T180000
DTEND;TZID=Europe/Berlin:20140627T200000
LOCATION:Augustusplatz
GEO:51.338980;12.380949
URL;VALUE=URI:https://criticalmass.in/leipzig/2014-06-27
END:VEVENT
END:VCALENDAR
