BEGIN:VCALENDAR
VERSION:2.0
PRODID:-//Sabre//Sabre VObject 4.5.8//EN
CALSCALE:GREGORIAN
BEGIN:VEVENT
UID:criticalmass-one-leipzig-1391187600
DTSTAMP:20260421T031858Z
SUMMARY:Critical Mass Leipzig 31.01.2014
DTSTART;TZID=Europe/Berlin:20140131T180000
DTEND;TZID=Europe/Berlin:20140131T200000
LOCATION:Augustusplatz
GEO:51.338980;12.380949
URL;VALUE=URI:https://criticalmass.in/leipzig/2014-01-31
END:VEVENT
END:VCALENDAR
