BEGIN:VCALENDAR
VERSION:2.0
PRODID:-//Sabre//Sabre VObject 4.5.8//EN
CALSCALE:GREGORIAN
BEGIN:VEVENT
UID:criticalmass-one-leadville-1769860800
DTSTAMP:20260422T001755Z
SUMMARY:Alex Pretti Memorial Ride — LeadVelo Bicicasa
DESCRIPTION:Saturday January 31st meet at Noon @ LeadVelo 719 Harrison Ave.
  Ride 12:30 for 1 to 1.5 hours.
DTSTART;TZID=America/Denver:20260131T050000
DTEND;TZID=America/Denver:20260131T070000
LOCATION:LeadVelo\, Leadville
GEO:39.250197;-106.292502
URL;VALUE=URI:https://criticalmass.in/leadville/alex-pretti-memorial-ride-l
 eadville-2026-01-31
END:VEVENT
END:VCALENDAR
