BEGIN:VCALENDAR
VERSION:2.0
PRODID:-//Sabre//Sabre VObject 4.5.8//EN
CALSCALE:GREGORIAN
BEGIN:VEVENT
UID:criticalmass-one-lausanne-1686472200
DTSTAMP:20260421T141637Z
SUMMARY:Kidical Mass Lausanne 11.06.2023
DTSTART;TZID=Europe/Zurich:20230611T103000
DTEND;TZID=Europe/Zurich:20230611T123000
LOCATION:Parc de Milan
GEO:46.514753;6.621702
URL;VALUE=URI:https://criticalmass.in/lausanne/kidical-mass-lausanne-juni-2
 023
END:VEVENT
END:VCALENDAR
