BEGIN:VCALENDAR
VERSION:2.0
PRODID:-//Sabre//Sabre VObject 4.5.8//EN
CALSCALE:GREGORIAN
BEGIN:VEVENT
UID:criticalmass-one-las-cruces-1769864400
DTSTAMP:20260422T103436Z
SUMMARY:Alex Pretti Memorial Ride — Doug Campbell
DESCRIPTION:Meet at the Las Cruces Plaza on Saturday at 1 p.m.\, 1:30 p.m. 
 rollout. 
DTSTART;TZID=America/Denver:20260131T060000
DTEND;TZID=America/Denver:20260131T080000
LOCATION:Las Cruces Plaza\, Las Cruces
GEO:32.309824;-106.778443
URL;VALUE=URI:https://criticalmass.in/las-cruces/alex-pretti-memorial-ride-
 las-cruces-2026-01-31
END:VEVENT
END:VCALENDAR
