BEGIN:VCALENDAR
VERSION:2.0
PRODID:-//Sabre//Sabre VObject 4.5.8//EN
CALSCALE:GREGORIAN
BEGIN:VEVENT
UID:criticalmass-one-langenfeld-rheinland-1714827600
DTSTAMP:20260425T143701Z
SUMMARY:Kidical Mass - Langenfelder Kinderradtour für sichere Wege
DESCRIPTION:Wann?\nSamstag\, 4. Mai 2024 um 15:00 Uhr (Abfahrt) Öffnung de
 s Schulhofs ab 14:00 Uhr\n\nWas und Wo?\nWir starten und beenden die Tour 
 an der Bettine-von-Arnim Schule (BvA) am Eingang Annastraße. Es geht ca. 
 10 km durch die Stadt.\nDanach werden auf dem Schulhof Spiele\, ADFC-Fahrr
 adcodierung & Infostand\, Eis\, Grillwürstchen\, Snacks und Getränke ang
 eboten.\n\nWarum?\nUnser Ziel ist\, dass sich alle Kinder und Jugendlichen
 \nsicher und selbständig in Langenfeld mit dem Fahrrad bewegen können. D
 afür wollen wir ein Zeichen setzen.\n\nWer?\nKinder (mit Begleitung eines
  Elternteils) sowie alle anderen Unterstützer sind herzlich willkommen.\n
 \nWie?\nWir werden gemächlich auf den Straßen fahren. Die Polizei wird d
 en Streckenverlauf sichern.\n\nEine Aktion des ADFC Langenfeld/Monheim im 
 Rahmen der Aktionstage „Kidical Mass“.\nhttps://langenfeld.adfc.de/neu
 igkeit/langenfelder-kinderradtour-fuer-sichere-wege
DTSTART;TZID=Europe/Berlin:20240504T150000
DTEND;TZID=Europe/Berlin:20240504T170000
LOCATION:Bettine-von-Arnim Schule (BvA) am Eingang Annastraße
GEO:51.135235;6.946803
URL;VALUE=URI:https://criticalmass.in/langenfeld-rheinland/2024-05-04
END:VEVENT
END:VCALENDAR
