BEGIN:VCALENDAR
VERSION:2.0
PRODID:-//Sabre//Sabre VObject 4.5.8//EN
CALSCALE:GREGORIAN
BEGIN:VEVENT
UID:criticalmass-one-langenfeld-rheinland-1602252000
DTSTAMP:20260424T030523Z
SUMMARY:Langenfeld/Monheim kombiniert
DESCRIPTION:Nachdem wir am im September in Langenfeld gestartet sind\, geht
  es jetzt wieder in Monheim am Kradepohl (Grabenstraße) los. Die Tour end
 et in Langenfeld.
DTSTART;TZID=Europe/Berlin:20201009T160000
DTEND;TZID=Europe/Berlin:20201009T180000
LOCATION:Monheim Kradepohl
URL;VALUE=URI:https://criticalmass.in/langenfeld-rheinland/2020-10-09
END:VEVENT
END:VCALENDAR
