BEGIN:VCALENDAR
VERSION:2.0
PRODID:-//Sabre//Sabre VObject 4.5.8//EN
CALSCALE:GREGORIAN
BEGIN:VEVENT
UID:criticalmass-one-langenfeld-rheinland-1599840000
DTSTAMP:20260423T222535Z
SUMMARY:Critical Mass Langenfeld
DESCRIPTION:Eine Runde durch Langenfeld ... vielleicht mit Verlängerung na
 ch Monheim. Treffpunkt: 18 Uhr an der Solinger Str\, vor der Sparkasse (n
 ähe Rathaus)
DTSTART;TZID=Europe/Berlin:20200911T180000
DTEND;TZID=Europe/Berlin:20200911T200000
LOCATION:Solinger Str\, vor der Sparkasse (nähe Rathaus)
URL;VALUE=URI:https://criticalmass.in/langenfeld-rheinland/2020-09-11
END:VEVENT
END:VCALENDAR
