BEGIN:VCALENDAR
VERSION:2.0
PRODID:-//Sabre//Sabre VObject 4.5.8//EN
CALSCALE:GREGORIAN
BEGIN:VEVENT
UID:criticalmass-one-lahrschwarzwald-1753398000
DTSTAMP:20260423T193143Z
SUMMARY:Critical Mass Lahr 25.07.2025
DTSTART;TZID=Europe/Berlin:20250725T010000
DTEND;TZID=Europe/Berlin:20250725T030000
URL;VALUE=URI:https://criticalmass.in/lahrschwarzwald/2025-07-24
END:VEVENT
END:VCALENDAR
