BEGIN:VCALENDAR
VERSION:2.0
PRODID:-//Sabre//Sabre VObject 4.5.8//EN
CALSCALE:GREGORIAN
BEGIN:VEVENT
UID:criticalmass-one-lahrschwarzwald-1745535600
DTSTAMP:20260422T133613Z
SUMMARY:Critical Mass Lahr 25.04.2025
DTSTART;TZID=Europe/Berlin:20250425T010000
DTEND;TZID=Europe/Berlin:20250425T030000
URL;VALUE=URI:https://criticalmass.in/lahrschwarzwald/2025-04-24
END:VEVENT
END:VCALENDAR
