BEGIN:VCALENDAR
VERSION:2.0
PRODID:-//Sabre//Sabre VObject 4.5.8//EN
CALSCALE:GREGORIAN
BEGIN:VEVENT
UID:criticalmass-one-lahrschwarzwald-1729810800
DTSTAMP:20260423T193143Z
SUMMARY:Critical Mass Lahr 25.10.2024
DTSTART;TZID=Europe/Berlin:20241025T010000
DTEND;TZID=Europe/Berlin:20241025T030000
URL;VALUE=URI:https://criticalmass.in/lahrschwarzwald/2024-10-24
END:VEVENT
END:VCALENDAR
