BEGIN:VCALENDAR
VERSION:2.0
PRODID:-//Sabre//Sabre VObject 4.5.8//EN
CALSCALE:GREGORIAN
BEGIN:VEVENT
UID:criticalmass-one-lahrschwarzwald-1724972400
DTSTAMP:20260422T224608Z
SUMMARY:Critical Mass Lahr 30.08.2024
DTSTART;TZID=Europe/Berlin:20240830T010000
DTEND;TZID=Europe/Berlin:20240830T030000
URL;VALUE=URI:https://criticalmass.in/lahrschwarzwald/2024-08-29
END:VEVENT
END:VCALENDAR
