BEGIN:VCALENDAR
VERSION:2.0
PRODID:-//Sabre//Sabre VObject 4.5.8//EN
CALSCALE:GREGORIAN
BEGIN:VEVENT
UID:criticalmass-one-lahrschwarzwald-1721948400
DTSTAMP:20260423T120340Z
SUMMARY:Critical Mass Lahr 26.07.2024
DTSTART;TZID=Europe/Berlin:20240726T010000
DTEND;TZID=Europe/Berlin:20240726T030000
URL;VALUE=URI:https://criticalmass.in/lahrschwarzwald/2024-07-25
END:VEVENT
END:VCALENDAR
