BEGIN:VCALENDAR
VERSION:2.0
PRODID:-//Sabre//Sabre VObject 4.5.8//EN
CALSCALE:GREGORIAN
BEGIN:VEVENT
UID:criticalmass-one-lahrschwarzwald-1719529200
DTSTAMP:20260423T210024Z
SUMMARY:Critical Mass Lahr 28.06.2024
DTSTART;TZID=Europe/Berlin:20240628T010000
DTEND;TZID=Europe/Berlin:20240628T030000
URL;VALUE=URI:https://criticalmass.in/lahrschwarzwald/2024-06-27
END:VEVENT
END:VCALENDAR
