BEGIN:VCALENDAR
VERSION:2.0
PRODID:-//Sabre//Sabre VObject 4.5.8//EN
CALSCALE:GREGORIAN
BEGIN:VEVENT
UID:criticalmass-one-lahrschwarzwald-1698361200
DTSTAMP:20260422T133610Z
SUMMARY:Critical Mass Lahr 27.10.2023
DTSTART;TZID=Europe/Berlin:20231027T010000
DTEND;TZID=Europe/Berlin:20231027T030000
URL;VALUE=URI:https://criticalmass.in/lahrschwarzwald/2023-10-26
END:VEVENT
END:VCALENDAR
