BEGIN:VCALENDAR
VERSION:2.0
PRODID:-//Sabre//Sabre VObject 4.5.8//EN
CALSCALE:GREGORIAN
BEGIN:VEVENT
UID:criticalmass-one-lahrschwarzwald-1692918000
DTSTAMP:20260422T060855Z
SUMMARY:Critical Mass Lahr 25.08.2023
DTSTART;TZID=Europe/Berlin:20230825T010000
DTEND;TZID=Europe/Berlin:20230825T030000
URL;VALUE=URI:https://criticalmass.in/lahrschwarzwald/2023-08-24
END:VEVENT
END:VCALENDAR
