BEGIN:VCALENDAR
VERSION:2.0
PRODID:-//Sabre//Sabre VObject 4.5.8//EN
CALSCALE:GREGORIAN
BEGIN:VEVENT
UID:criticalmass-one-lahrschwarzwald-1685055600
DTSTAMP:20260423T193142Z
SUMMARY:Critical Mass Lahr 26.05.2023
DTSTART;TZID=Europe/Berlin:20230526T010000
DTEND;TZID=Europe/Berlin:20230526T030000
URL;VALUE=URI:https://criticalmass.in/lahrschwarzwald/2023-05-25
END:VEVENT
END:VCALENDAR
