BEGIN:VCALENDAR
VERSION:2.0
PRODID:-//Sabre//Sabre VObject 4.5.8//EN
CALSCALE:GREGORIAN
BEGIN:VEVENT
UID:criticalmass-one-lahrschwarzwald-1682636400
DTSTAMP:20260424T092652Z
SUMMARY:Critical Mass Lahr 28.04.2023
DTSTART;TZID=Europe/Berlin:20230428T010000
DTEND;TZID=Europe/Berlin:20230428T030000
URL;VALUE=URI:https://criticalmass.in/lahrschwarzwald/2023-04-27
END:VEVENT
END:VCALENDAR
