BEGIN:VCALENDAR
VERSION:2.0
PRODID:-//Sabre//Sabre VObject 4.5.8//EN
CALSCALE:GREGORIAN
BEGIN:VEVENT
UID:criticalmass-one-lahrschwarzwald-1664492400
DTSTAMP:20260423T163309Z
SUMMARY:Critical Mass Lahr 30.09.2022
DTSTART;TZID=Europe/Berlin:20220930T010000
DTEND;TZID=Europe/Berlin:20220930T030000
URL;VALUE=URI:https://criticalmass.in/lahrschwarzwald/2022-09-29
END:VEVENT
END:VCALENDAR
