BEGIN:VCALENDAR
VERSION:2.0
PRODID:-//Sabre//Sabre VObject 4.5.8//EN
CALSCALE:GREGORIAN
BEGIN:VEVENT
UID:criticalmass-one-lahrschwarzwald-1659049200
DTSTAMP:20260423T193145Z
SUMMARY:Critical Mass Lahr 29.07.2022
DTSTART;TZID=Europe/Berlin:20220729T010000
DTEND;TZID=Europe/Berlin:20220729T030000
URL;VALUE=URI:https://criticalmass.in/lahrschwarzwald/2022-07-28
END:VEVENT
END:VCALENDAR
