BEGIN:VCALENDAR
VERSION:2.0
PRODID:-//Sabre//Sabre VObject 4.5.8//EN
CALSCALE:GREGORIAN
BEGIN:VEVENT
UID:criticalmass-one-lahrschwarzwald-1632438000
DTSTAMP:20260423T011407Z
SUMMARY:Critical Mass Lahr 24.09.2021
DTSTART;TZID=Europe/Berlin:20210924T010000
DTEND;TZID=Europe/Berlin:20210924T030000
URL;VALUE=URI:https://criticalmass.in/lahrschwarzwald/2021-09-23
END:VEVENT
END:VCALENDAR
