BEGIN:VCALENDAR
VERSION:2.0
PRODID:-//Sabre//Sabre VObject 4.5.8//EN
CALSCALE:GREGORIAN
BEGIN:VEVENT
UID:criticalmass-one-lahrschwarzwald-1627599600
DTSTAMP:20260424T003254Z
SUMMARY:Critical Mass Lahr 30.07.2021
DTSTART;TZID=Europe/Berlin:20210730T010000
DTEND;TZID=Europe/Berlin:20210730T030000
URL;VALUE=URI:https://criticalmass.in/lahrschwarzwald/2021-07-29
END:VEVENT
END:VCALENDAR
