BEGIN:VCALENDAR
VERSION:2.0
PRODID:-//Sabre//Sabre VObject 4.5.8//EN
CALSCALE:GREGORIAN
BEGIN:VEVENT
UID:criticalmass-one-lahrschwarzwald-1600988400
DTSTAMP:20260424T110023Z
SUMMARY:Critical Mass Lahr 25.09.2020
DTSTART;TZID=Europe/Berlin:20200925T010000
DTEND;TZID=Europe/Berlin:20200925T030000
URL;VALUE=URI:https://criticalmass.in/lahrschwarzwald/2020-09-24
END:VEVENT
END:VCALENDAR
