BEGIN:VCALENDAR
VERSION:2.0
PRODID:-//Sabre//Sabre VObject 4.5.8//EN
CALSCALE:GREGORIAN
BEGIN:VEVENT
UID:criticalmass-one-lahrschwarzwald-1598569200
DTSTAMP:20260423T193120Z
SUMMARY:Critical Mass Lahr 28.08.2020
DTSTART;TZID=Europe/Berlin:20200828T010000
DTEND;TZID=Europe/Berlin:20200828T030000
URL;VALUE=URI:https://criticalmass.in/lahrschwarzwald/2020-08-27
END:VEVENT
END:VCALENDAR
