BEGIN:VCALENDAR
VERSION:2.0
PRODID:-//Sabre//Sabre VObject 4.5.8//EN
CALSCALE:GREGORIAN
BEGIN:VEVENT
UID:criticalmass-one-lahrschwarzwald-1587682800
DTSTAMP:20260422T133706Z
SUMMARY:Critical Mass Lahr 24.04.2020
DTSTART;TZID=Europe/Berlin:20200424T010000
DTEND;TZID=Europe/Berlin:20200424T030000
URL;VALUE=URI:https://criticalmass.in/lahrschwarzwald/2020-04-23
END:VEVENT
END:VCALENDAR
