BEGIN:VCALENDAR
VERSION:2.0
PRODID:-//Sabre//Sabre VObject 4.5.8//EN
CALSCALE:GREGORIAN
BEGIN:VEVENT
UID:criticalmass-one-lahrschwarzwald-1569538800
DTSTAMP:20260423T204932Z
SUMMARY:Critical Mass Lahr 27.09.2019
DTSTART;TZID=Europe/Berlin:20190927T010000
DTEND;TZID=Europe/Berlin:20190927T030000
URL;VALUE=URI:https://criticalmass.in/lahrschwarzwald/2019-09-26
END:VEVENT
END:VCALENDAR
