BEGIN:VCALENDAR
VERSION:2.0
PRODID:-//Sabre//Sabre VObject 4.5.8//EN
CALSCALE:GREGORIAN
BEGIN:VEVENT
UID:criticalmass-one-lahrschwarzwald-1564095600
DTSTAMP:20260424T112917Z
SUMMARY:Critical Mass Lahr 26.07.2019
DTSTART;TZID=Europe/Berlin:20190726T010000
DTEND;TZID=Europe/Berlin:20190726T030000
URL;VALUE=URI:https://criticalmass.in/lahrschwarzwald/2019-07-25
END:VEVENT
END:VCALENDAR
