BEGIN:VCALENDAR
VERSION:2.0
PRODID:-//Sabre//Sabre VObject 4.5.8//EN
CALSCALE:GREGORIAN
BEGIN:VEVENT
UID:criticalmass-one-lahrschwarzwald-1538089200
DTSTAMP:20260424T110024Z
SUMMARY:Critical Mass Lahr 28.09.2018
DTSTART;TZID=Europe/Berlin:20180928T010000
DTEND;TZID=Europe/Berlin:20180928T030000
URL;VALUE=URI:https://criticalmass.in/lahrschwarzwald/2018-09-27
END:VEVENT
END:VCALENDAR
