BEGIN:VCALENDAR
VERSION:2.0
PRODID:-//Sabre//Sabre VObject 4.5.8//EN
CALSCALE:GREGORIAN
BEGIN:VEVENT
UID:criticalmass-one-lahrschwarzwald-1524783600
DTSTAMP:20260422T133701Z
SUMMARY:Critical Mass Lahr 26.04.2018
DTSTART;TZID=Europe/Berlin:20180427T010000
DTEND;TZID=Europe/Berlin:20180427T030000
URL;VALUE=URI:https://criticalmass.in/lahrschwarzwald/2018-04-26
END:VEVENT
END:VCALENDAR
