BEGIN:VCALENDAR
VERSION:2.0
PRODID:-//Sabre//Sabre VObject 4.5.8//EN
CALSCALE:GREGORIAN
BEGIN:VEVENT
UID:criticalmass-one-lahrschwarzwald-1503612000
DTSTAMP:20260423T113459Z
SUMMARY:Critical Mass Lahr 24.08.2017
DTSTART;TZID=Europe/Berlin:20170825T000000
DTEND;TZID=Europe/Berlin:20170825T020000
URL;VALUE=URI:https://criticalmass.in/lahrschwarzwald/2017-08-24
END:VEVENT
END:VCALENDAR
