BEGIN:VCALENDAR
VERSION:2.0
PRODID:-//Sabre//Sabre VObject 4.5.8//EN
CALSCALE:GREGORIAN
BEGIN:VEVENT
UID:criticalmass-one-lahrschwarzwald-1483048800
DTSTAMP:20260422T133654Z
SUMMARY:Critical Mass Lahr 29.12.2016
DTSTART;TZID=Europe/Berlin:20161229T230000
DTEND;TZID=Europe/Berlin:20161230T010000
URL;VALUE=URI:https://criticalmass.in/lahrschwarzwald/2016-12-29
END:VEVENT
END:VCALENDAR
