BEGIN:VCALENDAR
VERSION:2.0
PRODID:-//Sabre//Sabre VObject 4.5.8//EN
CALSCALE:GREGORIAN
BEGIN:VEVENT
UID:criticalmass-one-lahrschwarzwald-1480017600
DTSTAMP:20260424T105027Z
SUMMARY:Critical Mass Lahr 24.11.2016
DTSTART;TZID=Europe/Berlin:20161124T210000
DTEND;TZID=Europe/Berlin:20161124T230000
URL;VALUE=URI:https://criticalmass.in/lahrschwarzwald/2016-11-24
END:VEVENT
END:VCALENDAR
