BEGIN:VCALENDAR
VERSION:2.0
PRODID:-//Sabre//Sabre VObject 4.5.8//EN
CALSCALE:GREGORIAN
BEGIN:VEVENT
UID:criticalmass-one-lahrschwarzwald-1477605600
DTSTAMP:20260424T022223Z
SUMMARY:Critical Mass Lahr 27.10.2016
DTSTART;TZID=Europe/Berlin:20161028T000000
DTEND;TZID=Europe/Berlin:20161028T020000
URL;VALUE=URI:https://criticalmass.in/lahrschwarzwald/2016-10-27
END:VEVENT
END:VCALENDAR
