BEGIN:VCALENDAR
VERSION:2.0
PRODID:-//Sabre//Sabre VObject 4.5.8//EN
CALSCALE:GREGORIAN
BEGIN:VEVENT
UID:criticalmass-one-lahrschwarzwald-1475186400
DTSTAMP:20260424T192644Z
SUMMARY:Critical Mass Lahr 29.09.2016
DTSTART;TZID=Europe/Berlin:20160930T000000
DTEND;TZID=Europe/Berlin:20160930T020000
URL;VALUE=URI:https://criticalmass.in/lahrschwarzwald/2016-09-29
END:VEVENT
END:VCALENDAR
