BEGIN:VCALENDAR
VERSION:2.0
PRODID:-//Sabre//Sabre VObject 4.5.8//EN
CALSCALE:GREGORIAN
BEGIN:VEVENT
UID:criticalmass-one-lahrschwarzwald-1469743200
DTSTAMP:20260421T171047Z
SUMMARY:Critical Mass Lahr 28.07.2016
DTSTART;TZID=Europe/Berlin:20160729T000000
DTEND;TZID=Europe/Berlin:20160729T020000
URL;VALUE=URI:https://criticalmass.in/lahrschwarzwald/2016-07-28
END:VEVENT
END:VCALENDAR
