BEGIN:VCALENDAR
VERSION:2.0
PRODID:-//Sabre//Sabre VObject 4.5.8//EN
CALSCALE:GREGORIAN
BEGIN:VEVENT
UID:criticalmass-one-lahrschwarzwald-1464300000
DTSTAMP:20260423T103713Z
SUMMARY:Critical Mass Lahr 26.05.2016
DTSTART;TZID=Europe/Berlin:20160527T000000
DTEND;TZID=Europe/Berlin:20160527T020000
URL;VALUE=URI:https://criticalmass.in/lahrschwarzwald/2016-05-26
END:VEVENT
END:VCALENDAR
