BEGIN:VCALENDAR
VERSION:2.0
PRODID:-//Sabre//Sabre VObject 4.5.8//EN
CALSCALE:GREGORIAN
BEGIN:VEVENT
UID:criticalmass-one-lahrschwarzwald-1458860400
DTSTAMP:20260423T232742Z
SUMMARY:Critical Mass Lahr 24.03.2016
DTSTART;TZID=Europe/Berlin:20160325T000000
DTEND;TZID=Europe/Berlin:20160325T020000
URL;VALUE=URI:https://criticalmass.in/lahrschwarzwald/2016-03-24
END:VEVENT
END:VCALENDAR
