BEGIN:VCALENDAR
VERSION:2.0
PRODID:-//Sabre//Sabre VObject 4.5.8//EN
CALSCALE:GREGORIAN
BEGIN:VEVENT
UID:criticalmass-one-lahrschwarzwald-1456441200
DTSTAMP:20260421T170958Z
SUMMARY:Critical Mass Lahr 25.02.2016
DTSTART;TZID=Europe/Berlin:20160226T000000
DTEND;TZID=Europe/Berlin:20160226T020000
URL;VALUE=URI:https://criticalmass.in/lahrschwarzwald/2016-02-25
END:VEVENT
END:VCALENDAR
