BEGIN:VCALENDAR
VERSION:2.0
PRODID:-//Sabre//Sabre VObject 4.5.8//EN
CALSCALE:GREGORIAN
BEGIN:VEVENT
UID:criticalmass-one-lahrschwarzwald-1435269600
DTSTAMP:20260424T220550Z
SUMMARY:Critical Mass Lahr 25.06.2015
DTSTART;TZID=Europe/Berlin:20150626T000000
DTEND;TZID=Europe/Berlin:20150626T020000
URL;VALUE=URI:https://criticalmass.in/lahrschwarzwald/2015-06-25
END:VEVENT
END:VCALENDAR
