BEGIN:VCALENDAR
VERSION:2.0
PRODID:-//Sabre//Sabre VObject 4.5.8//EN
CALSCALE:GREGORIAN
BEGIN:VEVENT
UID:criticalmass-one-lahrschwarzwald-1419548400
DTSTAMP:20260424T092318Z
SUMMARY:Critical Mass Lahr 25.12.2014
DTSTART;TZID=Europe/Berlin:20141226T000000
DTEND;TZID=Europe/Berlin:20141226T020000
URL;VALUE=URI:https://criticalmass.in/lahrschwarzwald/2014-12-25
END:VEVENT
END:VCALENDAR
