BEGIN:VCALENDAR
VERSION:2.0
PRODID:-//Sabre//Sabre VObject 4.5.8//EN
CALSCALE:GREGORIAN
BEGIN:VEVENT
UID:criticalmass-one-lahrschwarzwald-1411682400
DTSTAMP:20260423T190107Z
SUMMARY:Critical Mass Lahr 25.09.2014
DTSTART;TZID=Europe/Berlin:20140926T000000
DTEND;TZID=Europe/Berlin:20140926T020000
URL;VALUE=URI:https://criticalmass.in/lahrschwarzwald/2014-09-25
END:VEVENT
END:VCALENDAR
