BEGIN:VCALENDAR
VERSION:2.0
PRODID:-//Sabre//Sabre VObject 4.5.8//EN
CALSCALE:GREGORIAN
BEGIN:VEVENT
UID:criticalmass-one-lahrschwarzwald-1409263200
DTSTAMP:20260424T010154Z
SUMMARY:Critical Mass Lahr 28.08.2014
DTSTART;TZID=Europe/Berlin:20140829T000000
DTEND;TZID=Europe/Berlin:20140829T020000
URL;VALUE=URI:https://criticalmass.in/lahrschwarzwald/2014-08-28
END:VEVENT
END:VCALENDAR
