BEGIN:VCALENDAR
VERSION:2.0
PRODID:-//Sabre//Sabre VObject 4.5.8//EN
CALSCALE:GREGORIAN
BEGIN:VEVENT
UID:criticalmass-one-lahrschwarzwald-1403820000
DTSTAMP:20260423T232750Z
SUMMARY:Critical Mass Lahr 26.06.2014
DTSTART;TZID=Europe/Berlin:20140627T000000
DTEND;TZID=Europe/Berlin:20140627T020000
URL;VALUE=URI:https://criticalmass.in/lahrschwarzwald/2014-06-26
END:VEVENT
END:VCALENDAR
