BEGIN:VCALENDAR
VERSION:2.0
PRODID:-//Sabre//Sabre VObject 4.5.8//EN
CALSCALE:GREGORIAN
BEGIN:VEVENT
UID:criticalmass-one-lahrschwarzwald-1398376800
DTSTAMP:20260423T190013Z
SUMMARY:Critical Mass Lahr 24.04.2014
DTSTART;TZID=Europe/Berlin:20140425T000000
DTEND;TZID=Europe/Berlin:20140425T020000
URL;VALUE=URI:https://criticalmass.in/lahrschwarzwald/2014-04-24
END:VEVENT
END:VCALENDAR
