BEGIN:VCALENDAR
VERSION:2.0
PRODID:-//Sabre//Sabre VObject 4.5.8//EN
CALSCALE:GREGORIAN
BEGIN:VEVENT
UID:criticalmass-one-lahrschwarzwald-1393542000
DTSTAMP:20260421T170626Z
SUMMARY:Critical Mass Lahr 27.02.2014
DTSTART;TZID=Europe/Berlin:20140228T000000
DTEND;TZID=Europe/Berlin:20140228T020000
URL;VALUE=URI:https://criticalmass.in/lahrschwarzwald/2014-02-27
END:VEVENT
END:VCALENDAR
